BEGIN:VCALENDAR
VERSION:2.0
PRODID:-//Tukios.com/
BEGIN:VEVENT
UID:891e1ba2-34df-4586-bfbc-58afdd254028@www.gatelyfh.com
DTSTAMP:20260423T014850Z
DTSTART:20260501T171500Z
DTEND:20260501T181500Z
SUMMARY:Burial
DESCRIPTION:
URL:https://www.gatelyfh.com/obituaries/claire-campbell
LOCATION: 230 Playstead Rd  Medford MA 02155
GEO:42.430925;-71.1349904
END:VEVENT
END:VCALENDAR