BEGIN:VCALENDAR
VERSION:2.0
PRODID:-//Tukios.com/
BEGIN:VEVENT
UID:23b0f6d5-78c6-4247-988b-f04af440ef4e@www.gatelyfh.com
DTSTAMP:20260423T014752Z
DTSTART:20260501T160000Z
DTEND:20260501T170000Z
SUMMARY:Mass
DESCRIPTION:
URL:https://www.gatelyfh.com/obituaries/claire-campbell
LOCATION: 512 High Street  Medford MA 02155
GEO:42.4210907;-71.1339938
END:VEVENT
END:VCALENDAR