BEGIN:VCALENDAR
VERSION:2.0
PRODID:-//Tukios.com/
BEGIN:VEVENT
UID:06e38e3e-4125-4aa3-9141-6817d266f054@www.gatelyfh.com
DTSTAMP:20260423T223612Z
DTSTART:20260507T140000Z
DTEND:20260507T150000Z
SUMMARY:Interment
DESCRIPTION:
URL:https://www.gatelyfh.com/obituaries/mary-cilino
LOCATION: 1390 Main St  Agawam MA 01001
GEO:42.0436935;-72.6211891
END:VEVENT
END:VCALENDAR