BEGIN:VCALENDAR
VERSION:2.0
PRODID:-//Tukios.com/
BEGIN:VEVENT
UID:a6770d16-7354-4441-8e10-f2f6723c3554@www.gatelyfh.com
DTSTAMP:20260423T223750Z
DTSTART:20260509T163000Z
DTEND:20260509T173000Z
SUMMARY:Memorial Gathering
DESCRIPTION:19 Fairview Ave., Melrose
URL:https://www.gatelyfh.com/obituaries/mary-cilino
LOCATION:Melrose Remembrance 19 Fairview Ave.  Melrose MA 02176
GEO:42.4672984;-71.0596899
END:VEVENT
END:VCALENDAR