BEGIN:VCALENDAR
VERSION:2.0
PRODID:-//Tukios.com/
BEGIN:VEVENT
UID:cd8ea148-ec2e-45df-929a-59c4fc86be2a@www.gatelyfh.com
DTSTAMP:20260422T010641Z
DTSTART:20260429T133000Z
DTEND:20260429T143000Z
SUMMARY:Visitation
DESCRIPTION:
URL:https://www.gatelyfh.com/obituaries/virginia-doane
LOCATION:Gately Funeral Home 79 W Foster St  Melrose MA 02176
GEO:42.4552486;-71.0666495
END:VEVENT
END:VCALENDAR