BEGIN:VCALENDAR
VERSION:2.0
PRODID:-//Tukios.com/
BEGIN:VEVENT
UID:b87eba91-5a42-4cc5-9750-f08e8a07d68e@www.gatelyfh.com
DTSTAMP:20260422T010939Z
DTSTART:20260429T150000Z
DTEND:20260429T160000Z
SUMMARY:Funeral Service
DESCRIPTION:
URL:https://www.gatelyfh.com/obituaries/virginia-doane
LOCATION:St Mary’s Church Herbert Street  Melrose MA 02176
GEO:42.4539759;-71.0682325
END:VEVENT
END:VCALENDAR